BEGIN:VCALENDAR
VERSION:2.0
PRODID:-//wp-events-plugin.com//7.2.3.1//EN
TZID:America/Los_Angeles
X-WR-TIMEZONE:America/Los_Angeles
BEGIN:VEVENT
UID:804@aanapa.org
DTSTART;TZID=America/Los_Angeles:20250614T090000
DTEND;TZID=America/Los_Angeles:20250614T100000
DTSTAMP:20240310T190038Z
URL:https://aanapa.org/events/intergroup-officers-meeting-2025-06-14
SUMMARY:Intergroup Officers Meeting
DESCRIPTION:Napa County Intergroup Fellowship is a service body directly re
 sponsible to the A.A. groups of Napa County. Its primary purpose is to mee
 t the needs of the A.A. groups and to provide services as required.\n\n\n\
 nThe monthly meeting provides an opportunity for representatives to share 
 group experience and problems‚ and to keep their groups informed about o
 ther service activities in the Napa Valley AA community.\n\nThe Intergroup
  Officers meets on the second Saturday of the Month on Zoom. Officers meet
  at 9AM\, and the business meeting with Reps convenes at 10 :00 AM and adj
 ourns at 12:00 PM. The meeting and Zoom information is listed on the speci
 al meeting page.  The password is NVIG2022 
ATTACH;FMTTYPE=image/jpeg:https://aanapa.org/wp-content/uploads/AA-Salmon.
 png
CATEGORIES:Intergroup Officers
LOCATION:https://us02web.zoom.us/j/81993441070?pwd=WnB0YUpvTjk1MUlhMHhhcWRt
 cW1UZz09
END:VEVENT
BEGIN:VTIMEZONE
TZID:America/Los_Angeles
X-LIC-LOCATION:America/Los_Angeles
BEGIN:DAYLIGHT
DTSTART:20250309T030000
TZOFFSETFROM:-0800
TZOFFSETTO:-0700
TZNAME:PDT
END:DAYLIGHT
END:VTIMEZONE
END:VCALENDAR